BEGIN:VCALENDAR
VERSION:2.0
PRODID:icalendar-ruby
CALSCALE:GREGORIAN
METHOD:PUBLISH
X-WR-CALNAME:MEN'S - Thursday 11:15 am & 1:30 pm - FULL SEASON Calendrier
BEGIN:VTIMEZONE
TZID:America/Los_Angeles
BEGIN:DAYLIGHT
DTSTART:20260308T030000
TZOFFSETFROM:-0800
TZOFFSETTO:-0700
RRULE:FREQ=YEARLY;BYDAY=2SU;BYMONTH=3
TZNAME:PDT
END:DAYLIGHT
BEGIN:STANDARD
DTSTART:20261101T010000
TZOFFSETFROM:-0700
TZOFFSETTO:-0800
RRULE:FREQ=YEARLY;BYDAY=1SU;BYMONTH=11
TZNAME:PST
END:STANDARD
END:VTIMEZONE
BEGIN:VEVENT
DTSTAMP:20260420T014658Z
UID:drawid:210333
DTSTART:20251002T111500
DTEND:20251002T131500
DESCRIPTION:Parties: TBD\, TBD\, TBD
LOCATION:644 Memorial Ave\, Qualicum Beach\, V9K 1L8\, BC\, CA
SEQUENCE:1776649618
SUMMARY:MEN'S - Thursday 11:15 am & 1:30 pm - FULL SEASON
URL;VALUE=URI:https://qualicum-district.curling.io/fr/events/23839-men-s-th
 ursday-11-15-am-1-30-pm-full-season/draws
END:VEVENT
BEGIN:VEVENT
DTSTAMP:20260420T014658Z
UID:drawid:210334
DTSTART:20251002T133000
DTEND:20251002T153000
DESCRIPTION:Parties: TBD\, TBD\, TBD
LOCATION:644 Memorial Ave\, Qualicum Beach\, V9K 1L8\, BC\, CA
SEQUENCE:1776649618
SUMMARY:MEN'S - Thursday 11:15 am & 1:30 pm - FULL SEASON
URL;VALUE=URI:https://qualicum-district.curling.io/fr/events/23839-men-s-th
 ursday-11-15-am-1-30-pm-full-season/draws
END:VEVENT
BEGIN:VEVENT
DTSTAMP:20260420T014658Z
UID:drawid:210335
DTSTART:20251009T111500
DTEND:20251009T131500
DESCRIPTION:Parties: TBD\, TBD\, TBD
LOCATION:644 Memorial Ave\, Qualicum Beach\, V9K 1L8\, BC\, CA
SEQUENCE:1776649618
SUMMARY:MEN'S - Thursday 11:15 am & 1:30 pm - FULL SEASON
URL;VALUE=URI:https://qualicum-district.curling.io/fr/events/23839-men-s-th
 ursday-11-15-am-1-30-pm-full-season/draws
END:VEVENT
BEGIN:VEVENT
DTSTAMP:20260420T014658Z
UID:drawid:210336
DTSTART:20251009T133000
DTEND:20251009T153000
DESCRIPTION:Parties: TBD\, TBD\, TBD
LOCATION:644 Memorial Ave\, Qualicum Beach\, V9K 1L8\, BC\, CA
SEQUENCE:1776649618
SUMMARY:MEN'S - Thursday 11:15 am & 1:30 pm - FULL SEASON
URL;VALUE=URI:https://qualicum-district.curling.io/fr/events/23839-men-s-th
 ursday-11-15-am-1-30-pm-full-season/draws
END:VEVENT
BEGIN:VEVENT
DTSTAMP:20260420T014658Z
UID:drawid:210337
DTSTART:20251016T111500
DTEND:20251016T131500
DESCRIPTION:Parties: TBD\, TBD\, TBD
LOCATION:644 Memorial Ave\, Qualicum Beach\, V9K 1L8\, BC\, CA
SEQUENCE:1776649618
SUMMARY:MEN'S - Thursday 11:15 am & 1:30 pm - FULL SEASON
URL;VALUE=URI:https://qualicum-district.curling.io/fr/events/23839-men-s-th
 ursday-11-15-am-1-30-pm-full-season/draws
END:VEVENT
BEGIN:VEVENT
DTSTAMP:20260420T014658Z
UID:drawid:210338
DTSTART:20251016T133000
DTEND:20251016T153000
DESCRIPTION:Parties: TBD\, TBD\, TBD
LOCATION:644 Memorial Ave\, Qualicum Beach\, V9K 1L8\, BC\, CA
SEQUENCE:1776649618
SUMMARY:MEN'S - Thursday 11:15 am & 1:30 pm - FULL SEASON
URL;VALUE=URI:https://qualicum-district.curling.io/fr/events/23839-men-s-th
 ursday-11-15-am-1-30-pm-full-season/draws
END:VEVENT
BEGIN:VEVENT
DTSTAMP:20260420T014658Z
UID:drawid:210339
DTSTART:20251023T111500
DTEND:20251023T131500
DESCRIPTION:Parties: TBD\, TBD\, TBD
LOCATION:644 Memorial Ave\, Qualicum Beach\, V9K 1L8\, BC\, CA
SEQUENCE:1776649618
SUMMARY:MEN'S - Thursday 11:15 am & 1:30 pm - FULL SEASON
URL;VALUE=URI:https://qualicum-district.curling.io/fr/events/23839-men-s-th
 ursday-11-15-am-1-30-pm-full-season/draws
END:VEVENT
BEGIN:VEVENT
DTSTAMP:20260420T014658Z
UID:drawid:210340
DTSTART:20251023T133000
DTEND:20251023T153000
DESCRIPTION:Parties: TBD\, TBD\, TBD
LOCATION:644 Memorial Ave\, Qualicum Beach\, V9K 1L8\, BC\, CA
SEQUENCE:1776649618
SUMMARY:MEN'S - Thursday 11:15 am & 1:30 pm - FULL SEASON
URL;VALUE=URI:https://qualicum-district.curling.io/fr/events/23839-men-s-th
 ursday-11-15-am-1-30-pm-full-season/draws
END:VEVENT
BEGIN:VEVENT
DTSTAMP:20260420T014658Z
UID:drawid:210341
DTSTART:20251030T111500
DTEND:20251030T131500
DESCRIPTION:Parties: TBD\, TBD\, TBD
LOCATION:644 Memorial Ave\, Qualicum Beach\, V9K 1L8\, BC\, CA
SEQUENCE:1776649618
SUMMARY:MEN'S - Thursday 11:15 am & 1:30 pm - FULL SEASON
URL;VALUE=URI:https://qualicum-district.curling.io/fr/events/23839-men-s-th
 ursday-11-15-am-1-30-pm-full-season/draws
END:VEVENT
BEGIN:VEVENT
DTSTAMP:20260420T014658Z
UID:drawid:210342
DTSTART:20251030T133000
DTEND:20251030T153000
DESCRIPTION:Parties: TBD\, TBD\, TBD
LOCATION:644 Memorial Ave\, Qualicum Beach\, V9K 1L8\, BC\, CA
SEQUENCE:1776649618
SUMMARY:MEN'S - Thursday 11:15 am & 1:30 pm - FULL SEASON
URL;VALUE=URI:https://qualicum-district.curling.io/fr/events/23839-men-s-th
 ursday-11-15-am-1-30-pm-full-season/draws
END:VEVENT
BEGIN:VEVENT
DTSTAMP:20260420T014658Z
UID:drawid:210343
DTSTART:20251106T111500
DTEND:20251106T131500
DESCRIPTION:Parties: TBD\, TBD\, TBD
LOCATION:644 Memorial Ave\, Qualicum Beach\, V9K 1L8\, BC\, CA
SEQUENCE:1776649618
SUMMARY:MEN'S - Thursday 11:15 am & 1:30 pm - FULL SEASON
URL;VALUE=URI:https://qualicum-district.curling.io/fr/events/23839-men-s-th
 ursday-11-15-am-1-30-pm-full-season/draws
END:VEVENT
BEGIN:VEVENT
DTSTAMP:20260420T014658Z
UID:drawid:210344
DTSTART:20251106T133000
DTEND:20251106T153000
DESCRIPTION:Parties: TBD\, TBD\, TBD
LOCATION:644 Memorial Ave\, Qualicum Beach\, V9K 1L8\, BC\, CA
SEQUENCE:1776649618
SUMMARY:MEN'S - Thursday 11:15 am & 1:30 pm - FULL SEASON
URL;VALUE=URI:https://qualicum-district.curling.io/fr/events/23839-men-s-th
 ursday-11-15-am-1-30-pm-full-season/draws
END:VEVENT
BEGIN:VEVENT
DTSTAMP:20260420T014658Z
UID:drawid:210345
DTSTART:20251113T111500
DTEND:20251113T131500
DESCRIPTION:Parties: TBD\, TBD\, TBD
LOCATION:644 Memorial Ave\, Qualicum Beach\, V9K 1L8\, BC\, CA
SEQUENCE:1776649618
SUMMARY:MEN'S - Thursday 11:15 am & 1:30 pm - FULL SEASON
URL;VALUE=URI:https://qualicum-district.curling.io/fr/events/23839-men-s-th
 ursday-11-15-am-1-30-pm-full-season/draws
END:VEVENT
BEGIN:VEVENT
DTSTAMP:20260420T014658Z
UID:drawid:210346
DTSTART:20251113T133000
DTEND:20251113T153000
DESCRIPTION:Parties: TBD\, TBD\, TBD
LOCATION:644 Memorial Ave\, Qualicum Beach\, V9K 1L8\, BC\, CA
SEQUENCE:1776649618
SUMMARY:MEN'S - Thursday 11:15 am & 1:30 pm - FULL SEASON
URL;VALUE=URI:https://qualicum-district.curling.io/fr/events/23839-men-s-th
 ursday-11-15-am-1-30-pm-full-season/draws
END:VEVENT
BEGIN:VEVENT
DTSTAMP:20260420T014658Z
UID:drawid:210347
DTSTART:20251120T111500
DTEND:20251120T131500
DESCRIPTION:Parties: TBD\, TBD\, TBD
LOCATION:644 Memorial Ave\, Qualicum Beach\, V9K 1L8\, BC\, CA
SEQUENCE:1776649618
SUMMARY:MEN'S - Thursday 11:15 am & 1:30 pm - FULL SEASON
URL;VALUE=URI:https://qualicum-district.curling.io/fr/events/23839-men-s-th
 ursday-11-15-am-1-30-pm-full-season/draws
END:VEVENT
BEGIN:VEVENT
DTSTAMP:20260420T014658Z
UID:drawid:210348
DTSTART:20251120T133000
DTEND:20251120T153000
DESCRIPTION:Parties: TBD\, TBD\, TBD
LOCATION:644 Memorial Ave\, Qualicum Beach\, V9K 1L8\, BC\, CA
SEQUENCE:1776649618
SUMMARY:MEN'S - Thursday 11:15 am & 1:30 pm - FULL SEASON
URL;VALUE=URI:https://qualicum-district.curling.io/fr/events/23839-men-s-th
 ursday-11-15-am-1-30-pm-full-season/draws
END:VEVENT
BEGIN:VEVENT
DTSTAMP:20260420T014658Z
UID:drawid:210349
DTSTART:20251127T111500
DTEND:20251127T131500
DESCRIPTION:Parties: TBD\, TBD\, TBD
LOCATION:644 Memorial Ave\, Qualicum Beach\, V9K 1L8\, BC\, CA
SEQUENCE:1776649618
SUMMARY:MEN'S - Thursday 11:15 am & 1:30 pm - FULL SEASON
URL;VALUE=URI:https://qualicum-district.curling.io/fr/events/23839-men-s-th
 ursday-11-15-am-1-30-pm-full-season/draws
END:VEVENT
BEGIN:VEVENT
DTSTAMP:20260420T014658Z
UID:drawid:210350
DTSTART:20251127T133000
DTEND:20251127T153000
DESCRIPTION:Parties: TBD\, TBD\, TBD
LOCATION:644 Memorial Ave\, Qualicum Beach\, V9K 1L8\, BC\, CA
SEQUENCE:1776649618
SUMMARY:MEN'S - Thursday 11:15 am & 1:30 pm - FULL SEASON
URL;VALUE=URI:https://qualicum-district.curling.io/fr/events/23839-men-s-th
 ursday-11-15-am-1-30-pm-full-season/draws
END:VEVENT
BEGIN:VEVENT
DTSTAMP:20260420T014658Z
UID:drawid:210351
DTSTART:20251204T111500
DTEND:20251204T131500
DESCRIPTION:Parties: TBD\, TBD\, TBD
LOCATION:644 Memorial Ave\, Qualicum Beach\, V9K 1L8\, BC\, CA
SEQUENCE:1776649618
SUMMARY:MEN'S - Thursday 11:15 am & 1:30 pm - FULL SEASON
URL;VALUE=URI:https://qualicum-district.curling.io/fr/events/23839-men-s-th
 ursday-11-15-am-1-30-pm-full-season/draws
END:VEVENT
BEGIN:VEVENT
DTSTAMP:20260420T014658Z
UID:drawid:210352
DTSTART:20251204T133000
DTEND:20251204T153000
DESCRIPTION:Parties: TBD\, TBD\, TBD
LOCATION:644 Memorial Ave\, Qualicum Beach\, V9K 1L8\, BC\, CA
SEQUENCE:1776649618
SUMMARY:MEN'S - Thursday 11:15 am & 1:30 pm - FULL SEASON
URL;VALUE=URI:https://qualicum-district.curling.io/fr/events/23839-men-s-th
 ursday-11-15-am-1-30-pm-full-season/draws
END:VEVENT
BEGIN:VEVENT
DTSTAMP:20260420T014658Z
UID:drawid:210353
DTSTART:20251211T111500
DTEND:20251211T131500
DESCRIPTION:Parties: TBD\, TBD\, TBD
LOCATION:644 Memorial Ave\, Qualicum Beach\, V9K 1L8\, BC\, CA
SEQUENCE:1776649618
SUMMARY:MEN'S - Thursday 11:15 am & 1:30 pm - FULL SEASON
URL;VALUE=URI:https://qualicum-district.curling.io/fr/events/23839-men-s-th
 ursday-11-15-am-1-30-pm-full-season/draws
END:VEVENT
BEGIN:VEVENT
DTSTAMP:20260420T014658Z
UID:drawid:210354
DTSTART:20251211T133000
DTEND:20251211T153000
DESCRIPTION:Parties: TBD\, TBD\, TBD
LOCATION:644 Memorial Ave\, Qualicum Beach\, V9K 1L8\, BC\, CA
SEQUENCE:1776649618
SUMMARY:MEN'S - Thursday 11:15 am & 1:30 pm - FULL SEASON
URL;VALUE=URI:https://qualicum-district.curling.io/fr/events/23839-men-s-th
 ursday-11-15-am-1-30-pm-full-season/draws
END:VEVENT
BEGIN:VEVENT
DTSTAMP:20260420T014658Z
UID:drawid:210355
DTSTART:20251218T111500
DTEND:20251218T131500
DESCRIPTION:Parties: TBD\, TBD\, TBD
LOCATION:644 Memorial Ave\, Qualicum Beach\, V9K 1L8\, BC\, CA
SEQUENCE:1776649618
SUMMARY:MEN'S - Thursday 11:15 am & 1:30 pm - FULL SEASON
URL;VALUE=URI:https://qualicum-district.curling.io/fr/events/23839-men-s-th
 ursday-11-15-am-1-30-pm-full-season/draws
END:VEVENT
BEGIN:VEVENT
DTSTAMP:20260420T014658Z
UID:drawid:210356
DTSTART:20251218T133000
DTEND:20251218T153000
DESCRIPTION:Parties: TBD\, TBD\, TBD
LOCATION:644 Memorial Ave\, Qualicum Beach\, V9K 1L8\, BC\, CA
SEQUENCE:1776649618
SUMMARY:MEN'S - Thursday 11:15 am & 1:30 pm - FULL SEASON
URL;VALUE=URI:https://qualicum-district.curling.io/fr/events/23839-men-s-th
 ursday-11-15-am-1-30-pm-full-season/draws
END:VEVENT
BEGIN:VEVENT
DTSTAMP:20260420T014658Z
UID:drawid:210357
DTSTART:20260108T111500
DTEND:20260108T131500
DESCRIPTION:Parties: TBD\, TBD\, TBD
LOCATION:644 Memorial Ave\, Qualicum Beach\, V9K 1L8\, BC\, CA
SEQUENCE:1776649618
SUMMARY:MEN'S - Thursday 11:15 am & 1:30 pm - FULL SEASON
URL;VALUE=URI:https://qualicum-district.curling.io/fr/events/23839-men-s-th
 ursday-11-15-am-1-30-pm-full-season/draws
END:VEVENT
BEGIN:VEVENT
DTSTAMP:20260420T014658Z
UID:drawid:210358
DTSTART:20260108T133000
DTEND:20260108T153000
DESCRIPTION:Parties: TBD\, TBD\, TBD
LOCATION:644 Memorial Ave\, Qualicum Beach\, V9K 1L8\, BC\, CA
SEQUENCE:1776649618
SUMMARY:MEN'S - Thursday 11:15 am & 1:30 pm - FULL SEASON
URL;VALUE=URI:https://qualicum-district.curling.io/fr/events/23839-men-s-th
 ursday-11-15-am-1-30-pm-full-season/draws
END:VEVENT
BEGIN:VEVENT
DTSTAMP:20260420T014658Z
UID:drawid:210359
DTSTART:20260115T111500
DTEND:20260115T131500
DESCRIPTION:Parties: TBD\, TBD\, TBD
LOCATION:644 Memorial Ave\, Qualicum Beach\, V9K 1L8\, BC\, CA
SEQUENCE:1776649618
SUMMARY:MEN'S - Thursday 11:15 am & 1:30 pm - FULL SEASON
URL;VALUE=URI:https://qualicum-district.curling.io/fr/events/23839-men-s-th
 ursday-11-15-am-1-30-pm-full-season/draws
END:VEVENT
BEGIN:VEVENT
DTSTAMP:20260420T014658Z
UID:drawid:210360
DTSTART:20260115T133000
DTEND:20260115T153000
DESCRIPTION:Parties: TBD\, TBD\, TBD
LOCATION:644 Memorial Ave\, Qualicum Beach\, V9K 1L8\, BC\, CA
SEQUENCE:1776649618
SUMMARY:MEN'S - Thursday 11:15 am & 1:30 pm - FULL SEASON
URL;VALUE=URI:https://qualicum-district.curling.io/fr/events/23839-men-s-th
 ursday-11-15-am-1-30-pm-full-season/draws
END:VEVENT
BEGIN:VEVENT
DTSTAMP:20260420T014658Z
UID:drawid:210361
DTSTART:20260122T111500
DTEND:20260122T131500
DESCRIPTION:Parties: TBD\, TBD\, TBD
LOCATION:644 Memorial Ave\, Qualicum Beach\, V9K 1L8\, BC\, CA
SEQUENCE:1776649618
SUMMARY:MEN'S - Thursday 11:15 am & 1:30 pm - FULL SEASON
URL;VALUE=URI:https://qualicum-district.curling.io/fr/events/23839-men-s-th
 ursday-11-15-am-1-30-pm-full-season/draws
END:VEVENT
BEGIN:VEVENT
DTSTAMP:20260420T014658Z
UID:drawid:210362
DTSTART:20260122T133000
DTEND:20260122T153000
DESCRIPTION:Parties: TBD\, TBD\, TBD
LOCATION:644 Memorial Ave\, Qualicum Beach\, V9K 1L8\, BC\, CA
SEQUENCE:1776649618
SUMMARY:MEN'S - Thursday 11:15 am & 1:30 pm - FULL SEASON
URL;VALUE=URI:https://qualicum-district.curling.io/fr/events/23839-men-s-th
 ursday-11-15-am-1-30-pm-full-season/draws
END:VEVENT
BEGIN:VEVENT
DTSTAMP:20260420T014658Z
UID:drawid:210363
DTSTART:20260129T111500
DTEND:20260129T131500
DESCRIPTION:Parties: TBD\, TBD\, TBD
LOCATION:644 Memorial Ave\, Qualicum Beach\, V9K 1L8\, BC\, CA
SEQUENCE:1776649618
SUMMARY:MEN'S - Thursday 11:15 am & 1:30 pm - FULL SEASON
URL;VALUE=URI:https://qualicum-district.curling.io/fr/events/23839-men-s-th
 ursday-11-15-am-1-30-pm-full-season/draws
END:VEVENT
BEGIN:VEVENT
DTSTAMP:20260420T014658Z
UID:drawid:210364
DTSTART:20260129T133000
DTEND:20260129T153000
DESCRIPTION:Parties: TBD\, TBD\, TBD
LOCATION:644 Memorial Ave\, Qualicum Beach\, V9K 1L8\, BC\, CA
SEQUENCE:1776649618
SUMMARY:MEN'S - Thursday 11:15 am & 1:30 pm - FULL SEASON
URL;VALUE=URI:https://qualicum-district.curling.io/fr/events/23839-men-s-th
 ursday-11-15-am-1-30-pm-full-season/draws
END:VEVENT
BEGIN:VEVENT
DTSTAMP:20260420T014658Z
UID:drawid:210365
DTSTART:20260205T111500
DTEND:20260205T131500
DESCRIPTION:Parties: TBD\, TBD\, TBD
LOCATION:644 Memorial Ave\, Qualicum Beach\, V9K 1L8\, BC\, CA
SEQUENCE:1776649618
SUMMARY:MEN'S - Thursday 11:15 am & 1:30 pm - FULL SEASON
URL;VALUE=URI:https://qualicum-district.curling.io/fr/events/23839-men-s-th
 ursday-11-15-am-1-30-pm-full-season/draws
END:VEVENT
BEGIN:VEVENT
DTSTAMP:20260420T014658Z
UID:drawid:210366
DTSTART:20260205T133000
DTEND:20260205T153000
DESCRIPTION:Parties: TBD\, TBD\, TBD
LOCATION:644 Memorial Ave\, Qualicum Beach\, V9K 1L8\, BC\, CA
SEQUENCE:1776649618
SUMMARY:MEN'S - Thursday 11:15 am & 1:30 pm - FULL SEASON
URL;VALUE=URI:https://qualicum-district.curling.io/fr/events/23839-men-s-th
 ursday-11-15-am-1-30-pm-full-season/draws
END:VEVENT
BEGIN:VEVENT
DTSTAMP:20260420T014658Z
UID:drawid:210367
DTSTART:20260212T111500
DTEND:20260212T131500
DESCRIPTION:Parties: TBD\, TBD\, TBD
LOCATION:644 Memorial Ave\, Qualicum Beach\, V9K 1L8\, BC\, CA
SEQUENCE:1776649618
SUMMARY:MEN'S - Thursday 11:15 am & 1:30 pm - FULL SEASON
URL;VALUE=URI:https://qualicum-district.curling.io/fr/events/23839-men-s-th
 ursday-11-15-am-1-30-pm-full-season/draws
END:VEVENT
BEGIN:VEVENT
DTSTAMP:20260420T014658Z
UID:drawid:210368
DTSTART:20260212T133000
DTEND:20260212T153000
DESCRIPTION:Parties: TBD\, TBD\, TBD
LOCATION:644 Memorial Ave\, Qualicum Beach\, V9K 1L8\, BC\, CA
SEQUENCE:1776649618
SUMMARY:MEN'S - Thursday 11:15 am & 1:30 pm - FULL SEASON
URL;VALUE=URI:https://qualicum-district.curling.io/fr/events/23839-men-s-th
 ursday-11-15-am-1-30-pm-full-season/draws
END:VEVENT
BEGIN:VEVENT
DTSTAMP:20260420T014658Z
UID:drawid:210369
DTSTART:20260219T111500
DTEND:20260219T131500
DESCRIPTION:Parties: TBD\, TBD\, TBD
LOCATION:644 Memorial Ave\, Qualicum Beach\, V9K 1L8\, BC\, CA
SEQUENCE:1776649618
SUMMARY:MEN'S - Thursday 11:15 am & 1:30 pm - FULL SEASON
URL;VALUE=URI:https://qualicum-district.curling.io/fr/events/23839-men-s-th
 ursday-11-15-am-1-30-pm-full-season/draws
END:VEVENT
BEGIN:VEVENT
DTSTAMP:20260420T014658Z
UID:drawid:210370
DTSTART:20260219T133000
DTEND:20260219T153000
DESCRIPTION:Parties: TBD\, TBD\, TBD
LOCATION:644 Memorial Ave\, Qualicum Beach\, V9K 1L8\, BC\, CA
SEQUENCE:1776649618
SUMMARY:MEN'S - Thursday 11:15 am & 1:30 pm - FULL SEASON
URL;VALUE=URI:https://qualicum-district.curling.io/fr/events/23839-men-s-th
 ursday-11-15-am-1-30-pm-full-season/draws
END:VEVENT
BEGIN:VEVENT
DTSTAMP:20260420T014658Z
UID:drawid:210371
DTSTART:20260226T111500
DTEND:20260226T131500
DESCRIPTION:Parties: TBD\, TBD\, TBD
LOCATION:644 Memorial Ave\, Qualicum Beach\, V9K 1L8\, BC\, CA
SEQUENCE:1776649618
SUMMARY:MEN'S - Thursday 11:15 am & 1:30 pm - FULL SEASON
URL;VALUE=URI:https://qualicum-district.curling.io/fr/events/23839-men-s-th
 ursday-11-15-am-1-30-pm-full-season/draws
END:VEVENT
BEGIN:VEVENT
DTSTAMP:20260420T014658Z
UID:drawid:210372
DTSTART:20260226T133000
DTEND:20260226T153000
DESCRIPTION:Parties: TBD\, TBD\, TBD
LOCATION:644 Memorial Ave\, Qualicum Beach\, V9K 1L8\, BC\, CA
SEQUENCE:1776649618
SUMMARY:MEN'S - Thursday 11:15 am & 1:30 pm - FULL SEASON
URL;VALUE=URI:https://qualicum-district.curling.io/fr/events/23839-men-s-th
 ursday-11-15-am-1-30-pm-full-season/draws
END:VEVENT
BEGIN:VEVENT
DTSTAMP:20260420T014658Z
UID:drawid:210373
DTSTART:20260305T111500
DTEND:20260305T131500
DESCRIPTION:Parties: TBD\, TBD\, TBD
LOCATION:644 Memorial Ave\, Qualicum Beach\, V9K 1L8\, BC\, CA
SEQUENCE:1776649618
SUMMARY:MEN'S - Thursday 11:15 am & 1:30 pm - FULL SEASON
URL;VALUE=URI:https://qualicum-district.curling.io/fr/events/23839-men-s-th
 ursday-11-15-am-1-30-pm-full-season/draws
END:VEVENT
BEGIN:VEVENT
DTSTAMP:20260420T014658Z
UID:drawid:210374
DTSTART:20260305T133000
DTEND:20260305T153000
DESCRIPTION:Parties: TBD\, TBD\, TBD
LOCATION:644 Memorial Ave\, Qualicum Beach\, V9K 1L8\, BC\, CA
SEQUENCE:1776649618
SUMMARY:MEN'S - Thursday 11:15 am & 1:30 pm - FULL SEASON
URL;VALUE=URI:https://qualicum-district.curling.io/fr/events/23839-men-s-th
 ursday-11-15-am-1-30-pm-full-season/draws
END:VEVENT
BEGIN:VEVENT
DTSTAMP:20260420T014658Z
UID:drawid:210375
DTSTART:20260312T111500
DTEND:20260312T131500
DESCRIPTION:Parties: TBD\, TBD\, TBD
LOCATION:644 Memorial Ave\, Qualicum Beach\, V9K 1L8\, BC\, CA
SEQUENCE:1776649618
SUMMARY:MEN'S - Thursday 11:15 am & 1:30 pm - FULL SEASON
URL;VALUE=URI:https://qualicum-district.curling.io/fr/events/23839-men-s-th
 ursday-11-15-am-1-30-pm-full-season/draws
END:VEVENT
BEGIN:VEVENT
DTSTAMP:20260420T014658Z
UID:drawid:210376
DTSTART:20260312T133000
DTEND:20260312T153000
DESCRIPTION:Parties: TBD\, TBD\, TBD
LOCATION:644 Memorial Ave\, Qualicum Beach\, V9K 1L8\, BC\, CA
SEQUENCE:1776649618
SUMMARY:MEN'S - Thursday 11:15 am & 1:30 pm - FULL SEASON
URL;VALUE=URI:https://qualicum-district.curling.io/fr/events/23839-men-s-th
 ursday-11-15-am-1-30-pm-full-season/draws
END:VEVENT
END:VCALENDAR
